BEGIN:VCALENDAR
VERSION:2.0
PRODID:-//Bendigo Agricultural Show Society - ECPv4.6.3//NONSGML v1.0//EN
CALSCALE:GREGORIAN
METHOD:PUBLISH
X-WR-CALNAME:Bendigo Agricultural Show Society
X-ORIGINAL-URL:http://bendigoshow.org.au
X-WR-CALDESC:Events for Bendigo Agricultural Show Society
BEGIN:VEVENT
DTSTART;TZID=UTC+11:20180204T080000
DTEND;TZID=UTC+11:20180204T140000
DTSTAMP:20180224T063953
CREATED:20171124T052027Z
LAST-MODIFIED:20171124T052328Z
UID:2713-1517731200-1517752800@bendigoshow.org.au
SUMMARY:Bendigo Showgrounds Market
DESCRIPTION:
URL:http://bendigoshow.org.au/event-calendar/bendigo-showgrounds-market-12/
END:VEVENT
BEGIN:VEVENT
DTSTART;TZID=UTC+11:20180211T083000
DTEND;TZID=UTC+11:20180211T140000
DTSTAMP:20180224T063953
CREATED:20171124T052109Z
LAST-MODIFIED:20180207T045513Z
UID:2715-1518337800-1518357600@bendigoshow.org.au
SUMMARY:Bendigo Showgrounds Market
DESCRIPTION:
URL:http://bendigoshow.org.au/event-calendar/bendigo-showgrounds-market-13/
END:VEVENT
BEGIN:VEVENT
DTSTART;TZID=UTC+11:20180211T100000
DTEND;TZID=UTC+11:20180211T160000
DTSTAMP:20180224T063953
CREATED:20171124T015801Z
LAST-MODIFIED:20171124T015901Z
UID:2677-1518343200-1518364800@bendigoshow.org.au
SUMMARY:Bendigo Psychic Expo
DESCRIPTION:
URL:http://bendigoshow.org.au/event-calendar/bendigo-psychic-expo/
END:VEVENT
BEGIN:VEVENT
DTSTART;VALUE=DATE:20180217
DTEND;VALUE=DATE:20180218
DTSTAMP:20180224T063953
CREATED:20180125T033238Z
LAST-MODIFIED:20180125T033238Z
UID:2784-1518825600-1518911999@bendigoshow.org.au
SUMMARY:Australian Stud Saddle Ponies
DESCRIPTION:
URL:http://bendigoshow.org.au/event-calendar/australian-stud-saddle-ponies/
END:VEVENT
BEGIN:VEVENT
DTSTART;VALUE=DATE:20180218
DTEND;VALUE=DATE:20180219
DTSTAMP:20180224T063953
CREATED:20180125T033505Z
LAST-MODIFIED:20180125T033505Z
UID:2786-1518912000-1518998399@bendigoshow.org.au
SUMMARY:Dilutes of Victoria Association
DESCRIPTION:
URL:http://bendigoshow.org.au/event-calendar/dilutes-of-victoria-association/
END:VEVENT
BEGIN:VEVENT
DTSTART;TZID=UTC+11:20180218T083000
DTEND;TZID=UTC+11:20180218T140000
DTSTAMP:20180224T063953
CREATED:20171124T052147Z
LAST-MODIFIED:20180207T045430Z
UID:2717-1518942600-1518962400@bendigoshow.org.au
SUMMARY:Bendigo Showgrounds Market
DESCRIPTION:
URL:http://bendigoshow.org.au/event-calendar/bendigo-showgrounds-market-14/
END:VEVENT
BEGIN:VEVENT
DTSTART;VALUE=DATE:20180224
DTEND;VALUE=DATE:20180225
DTSTAMP:20180224T063953
CREATED:20171124T020237Z
LAST-MODIFIED:20171124T020237Z
UID:2679-1519430400-1519516799@bendigoshow.org.au
SUMMARY:Bendigo Golden City Doll Show
DESCRIPTION:
URL:http://bendigoshow.org.au/event-calendar/bendigo-golden-city-doll-show/
END:VEVENT
BEGIN:VEVENT
DTSTART;TZID=UTC+11:20180225T083000
DTEND;TZID=UTC+11:20180225T140000
DTSTAMP:20180224T063953
CREATED:20171124T052235Z
LAST-MODIFIED:20180207T045603Z
UID:2719-1519547400-1519567200@bendigoshow.org.au
SUMMARY:Bendigo Showgrounds Market
DESCRIPTION:
URL:http://bendigoshow.org.au/event-calendar/bendigo-showgrounds-market-15/
END:VEVENT
BEGIN:VEVENT
DTSTART;TZID=UTC+11:20180303T170000
DTEND;TZID=UTC+11:20180303T230000
DTSTAMP:20180224T063953
CREATED:20171124T020951Z
LAST-MODIFIED:20180121T232442Z
UID:2681-1520096400-1520118000@bendigoshow.org.au
SUMMARY:Professional Bull Riders Australia - Bendigo Invitational
DESCRIPTION:
URL:http://bendigoshow.org.au/event-calendar/professional-bull-riders-australia-bendigo-invitational/
END:VEVENT
END:VCALENDAR